Workbook

Sheet Previous Management-Field Hist.
B3: 4-3-1-14_EN F | C3: Proof of previous land management (EU) Reg 2018/848- JAS /Field History NOP | F3: v 08.01.2025
A4: Operator name:
A6: The purpose of this template is to record previous land management in cases where farmers or groups of operators claim they have not used any agrochemicals prior to signing the first contract with an accredited organic certification body. It is to be used especially for such cases under Regulation (EU) 2018/848 (and Reg. 2020/464, Art. 1) and JAS and to record the Field history declaration according to NOP.
A8: Yellow fields should be completed by the operator
A10: 1. General Information
A11: a. Operation / Farm:
A12: b. Person providing the information /Date
A13: c. Role of person providing the information
A14: d. Retroactive recognition requested for | G14: 3 years | J14: 2 years | N14: 1 year
A15: e. Type of operation (please tick): | G15: Individual Farm (continue in section (f)) | L15: Farmer group (continue in section g)
A16: f. For individual farms - please tick the applicable option (only for Reg. (EU) 2018/848 and JAS): | G16: Retroactive recognition is requested for the whole farm | L16: Retroactive recognition is requested for specific (additional) fields only
A17: g. For farmer groups – please tick the applicable option:(only for Reg. (EU) 848/2018 and JAS): | G17: Retroactive recognition is requested for the whole group | I17: FALSE | J17: Retroactive recognition is requested only for some (new) members | N17: Retroactive recognition is requested only for specific (additional) fields of some members
A19: 2. Please list all fields of the farm you request retroactive recognition of organic land management (Reg (EU) 2018/848 and JAS, including all other fields that may start conversion to organic and first inspection according to NOP:
AD20: Menu
A21: Farm / Member ID (only for groups) | B21: Field Name or Number | C21: GPS coordinates | D21: Size (ha) | E21: Map is in Annex ° | F21: Last use of agrochemicals (day, month, year), indicate NA if relevant | G21: 3 years ago | L21: 2 years ago | Q21: 12 months prior to current date | W21: Explanation of the evidence for non-use of chemical pesticides, herbicides, fertilizers, treated seeds, etc., during the years prior to signing a contract with CERES GmbH ((please be as detailed as possible!)) | Y21: Annex (e.g. Photos, Organic certificates, confirmations etc.) | AD21: Natural pastures no agricultural management
G22: Agronomic practices (Select from drop down menu below) | H22: Crop | I22: Fertiliser used* | J22: Pesticides, Herbicides | K22: Seeds (organic/ treated/ untreated) | L22: Agronomic practices (Select from drop down menu below) | M22: Crop | N22: Fertiliser used* | O22: Pesticides, Herbicides | P22: Seeds (organic/ treated/ untreated) | Q22: Agronomic practices (Select from drop down menu below) | R22: Crop | S22: Fertiliser used* | T22: Pesticides, Herbicides | U22: Seeds / Propagation materia (Reg. EU 2018/848) (organic/ treated/ untreated) | V22: Volume of the ongoing production kg/ ha | AD22: Conventional
AD23: Organic (non use of agrochemicals)
AD24: No management -Fallow land / Virgin land/abandoned plantation
AD25: Previous certification
AD26: Unknown
A43: * Fertilisers, plant growth promotors, soild amendments
A45: Legally binding declaration:
A47: I declare that the information provided above is true. I confirm that I have been continuously on the farm during the period covered in the above mentioned table. I am aware that any wrong information may lead to suspension or revocation of organic certification (NOP).
A49: National ID card number of the undersigned person:
A53: Place, date, and signature:

Sheet Risk analysis Retr Recog 848
B3: Risk Analysis Retroactive Recognition (Reg. (EU) 2018/848)
A4: Intact No. / Name of the operator:
A5: Date of risk analysis by inspector:
A6: Name of inspector conducting the Risk assessment/ inspection:
A7: Date of confirmation of Risk assessment by Certifier(EO)
A8: Name of Certifier (EO)
A9: The result of the risk analysis is a basis for determining the sampling necessity on soil and/or plant from each land parcel Legal basis: Regulation (EU) 2021/1698, Article 24, 2 (a) In case that there is "Not enough documentary evidence." but the average risk points of the plot is below 1 the certifier must give an explanation of why a sample is not needed. For details see document 4-2-3-1-3_EN_Retroactive Recognition Reg EU 2018/848 WI
H10: Inspector please fill in the blue fields
A11: Farm | B11: Field Name or Number | C11: Size (ha) declared by the operator | D11: GPS coordinates | E11: Agronomic practices 3 years ago | F11: Agronomic practices 2 years ago | G11: Agronomic practices 12 months prior to current date | H11: Documentary evidence (Select from drop down menu below) | I11: Size of the plot (Select from drop down menu below) | J11: Agronomic practices (Select from drop down menu below) | K11: Risk of contamination? (Select from drop down menu below) | L11: Average risk points of the plot | M11: Risk and sampling assessment | N11: Photographic evidence of the plot (Picture) | O11: Inspector comments | P11: Certifier comments | R11: ADMIN Values documentation description | S11: ADMIN Values documentation Points | T11: ADMIN Values size description | U11: ADMIN Values size points | V11: ADMIN Valus Agronomic activities documentation | W11: ADMIN Valus Agronomic poiints | X11: ADMIN Parcel with risk of contamination? Description | Y11: ADMIN Parcel with risk of contamination? Points | Z11: ADMIN Color red and green | AA11: Admin Average risk points of the plot
A12: ='Previous Management-Field Hist.'!A23 -> 0 | B12: ='Previous Management-Field Hist.'!B23 -> 0 | C12: ='Previous Management-Field Hist.'!D23 -> 0 | D12: ='Previous Management-Field Hist.'!C23 -> 0 | E12: ='Previous Management-Field Hist.'!G23 -> 0 | F12: ='Previous Management-Field Hist.'!L23 -> 0 | G12: ='Previous Management-Field Hist.'!Q23 -> 0 | J12: Conventional agronomic practices within the last 3 years or within the requested period/ Agronomic practices unknown | L12: =IF((COUNTA(H12:K12))=4,AVERAGE((_xlfn.XLOOKUP(H12,$R$12:$R$13,$S$12:$S$13)),(_xlfn.XLOOKUP(I12,$T$12:$T$14,$U$12:$U$14)),(_xlfn.XLOOKUP(J12,$V$12:$V$15,$W$12:$W$15)),(_xlfn.XLOOKUP(K12,$X$12:$X$13,$Y$12:$Y$13))),AA12) -> Missing parameter | M12: =IF('Previous Management-Field Hist.'!B23="",$AA$13,IF(L12=$AA$12, $AA$12,IF(L12<1, $Z$12, $Z$13))) -> No plot ID | R12: Enough documentation | S12: 0 | T12: size ≤5 ha | U12: 0 | V12: Virgin land | W12: 0 | X12: Low risk | Y12: 0 | Z12: Low risk-No sample needed | AA12: Missing parameter
A13: ='Previous Management-Field Hist.'!A24 -> 0 | B13: ='Previous Management-Field Hist.'!B24 -> 0 | C13: ='Previous Management-Field Hist.'!D24 -> 0 | D13: ='Previous Management-Field Hist.'!C24 -> 0 | E13: ='Previous Management-Field Hist.'!G24 -> 0 | F13: ='Previous Management-Field Hist.'!L24 -> 0 | G13: ='Previous Management-Field Hist.'!Q24 -> 0 | L13: =IF((COUNTA(H13:K13))=4,AVERAGE((_xlfn.XLOOKUP(H13,$R$12:$R$13,$S$12:$S$13)),(_xlfn.XLOOKUP(I13,$T$12:$T$14,$U$12:$U$14)),(_xlfn.XLOOKUP(J13,$V$12:$V$15,$W$12:$W$15)),(_xlfn.XLOOKUP(K13,$X$12:$X$13,$Y$12:$Y$13))),AA13) -> No plot ID | M13: =IF('Previous Management-Field Hist.'!B24="",$AA$13,IF(L13=$AA$12, $AA$12,IF(L13<1, $Z$12, $Z$13))) -> No plot ID | R13: Not enough documentation | S13: 3 | T13: 5 ha <size ≤50 ha | U13: 1 | V13: Fallow land min. 3 years | W13: 1 | X13: High risk | Y13: 4 | Z13: High risk-Sample needed | AA13: No plot ID
A14: ='Previous Management-Field Hist.'!A25 -> 0 | B14: ='Previous Management-Field Hist.'!B25 -> 0 | C14: ='Previous Management-Field Hist.'!D25 -> 0 | D14: ='Previous Management-Field Hist.'!C25 -> 0 | E14: ='Previous Management-Field Hist.'!G25 -> 0 | F14: ='Previous Management-Field Hist.'!L25 -> 0 | G14: ='Previous Management-Field Hist.'!Q25 -> 0 | L14: =IF((COUNTA(H14:K14))=4,AVERAGE((_xlfn.XLOOKUP(H14,$R$12:$R$13,$S$12:$S$13)),(_xlfn.XLOOKUP(I14,$T$12:$T$14,$U$12:$U$14)),(_xlfn.XLOOKUP(J14,$V$12:$V$15,$W$12:$W$15)),(_xlfn.XLOOKUP(K14,$X$12:$X$13,$Y$12:$Y$13))),AA14) -> 0 | M14: =IF('Previous Management-Field Hist.'!B25="",$AA$13,IF(L14=$AA$12, $AA$12,IF(L14<1, $Z$12, $Z$13))) -> No plot ID | T14: 50 ha< size | U14: 2 | V14: Only organic agronomic practices the last 3 years | W14: 2
A15: ='Previous Management-Field Hist.'!A26 -> 0 | B15: ='Previous Management-Field Hist.'!B26 -> 0 | C15: ='Previous Management-Field Hist.'!D26 -> 0 | D15: ='Previous Management-Field Hist.'!C26 -> 0 | E15: ='Previous Management-Field Hist.'!G26 -> 0 | F15: ='Previous Management-Field Hist.'!L26 -> 0 | G15: ='Previous Management-Field Hist.'!Q26 -> 0 | L15: =IF((COUNTA(H15:K15))=4,AVERAGE((_xlfn.XLOOKUP(H15,$R$12:$R$13,$S$12:$S$13)),(_xlfn.XLOOKUP(I15,$T$12:$T$14,$U$12:$U$14)),(_xlfn.XLOOKUP(J15,$V$12:$V$15,$W$12:$W$15)),(_xlfn.XLOOKUP(K15,$X$12:$X$13,$Y$12:$Y$13))),AA15) -> 0 | M15: =IF('Previous Management-Field Hist.'!B26="",$AA$13,IF(L15=$AA$12, $AA$12,IF(L15<1, $Z$12, $Z$13))) -> No plot ID | V15: Conventional agronomic practices within the last 3 years or within the requested period/ Agronomic practices unknown | W15: 4
A16: ='Previous Management-Field Hist.'!A27 -> 0 | B16: ='Previous Management-Field Hist.'!B27 -> 0 | C16: ='Previous Management-Field Hist.'!D27 -> 0 | D16: ='Previous Management-Field Hist.'!C27 -> 0 | E16: ='Previous Management-Field Hist.'!G27 -> 0 | F16: ='Previous Management-Field Hist.'!L27 -> 0 | G16: ='Previous Management-Field Hist.'!Q27 -> 0 | L16: =IF((COUNTA(H16:K16))=4,AVERAGE((_xlfn.XLOOKUP(H16,$R$12:$R$13,$S$12:$S$13)),(_xlfn.XLOOKUP(I16,$T$12:$T$14,$U$12:$U$14)),(_xlfn.XLOOKUP(J16,$V$12:$V$15,$W$12:$W$15)),(_xlfn.XLOOKUP(K16,$X$12:$X$13,$Y$12:$Y$13))),AA16) -> 0 | M16: =IF('Previous Management-Field Hist.'!B27="",$AA$13,IF(L16=$AA$12, $AA$12,IF(L16<1, $Z$12, $Z$13))) -> No plot ID
A17: ='Previous Management-Field Hist.'!A28 -> 0 | B17: ='Previous Management-Field Hist.'!B28 -> 0 | C17: ='Previous Management-Field Hist.'!D28 -> 0 | D17: ='Previous Management-Field Hist.'!C28 -> 0 | E17: ='Previous Management-Field Hist.'!G28 -> 0 | F17: ='Previous Management-Field Hist.'!L28 -> 0 | G17: ='Previous Management-Field Hist.'!Q28 -> 0 | L17: =IF((COUNTA(H17:K17))=4,AVERAGE((_xlfn.XLOOKUP(H17,$R$12:$R$13,$S$12:$S$13)),(_xlfn.XLOOKUP(I17,$T$12:$T$14,$U$12:$U$14)),(_xlfn.XLOOKUP(J17,$V$12:$V$15,$W$12:$W$15)),(_xlfn.XLOOKUP(K17,$X$12:$X$13,$Y$12:$Y$13))),AA17) -> 0 | M17: =IF('Previous Management-Field Hist.'!B28="",$AA$13,IF(L17=$AA$12, $AA$12,IF(L17<1, $Z$12, $Z$13))) -> No plot ID
A18: ='Previous Management-Field Hist.'!A29 -> 0 | B18: ='Previous Management-Field Hist.'!B29 -> 0 | C18: ='Previous Management-Field Hist.'!D29 -> 0 | D18: ='Previous Management-Field Hist.'!C29 -> 0 | E18: ='Previous Management-Field Hist.'!G29 -> 0 | F18: ='Previous Management-Field Hist.'!L29 -> 0 | G18: ='Previous Management-Field Hist.'!Q29 -> 0 | L18: =IF((COUNTA(H18:K18))=4,AVERAGE((_xlfn.XLOOKUP(H18,$R$12:$R$13,$S$12:$S$13)),(_xlfn.XLOOKUP(I18,$T$12:$T$14,$U$12:$U$14)),(_xlfn.XLOOKUP(J18,$V$12:$V$15,$W$12:$W$15)),(_xlfn.XLOOKUP(K18,$X$12:$X$13,$Y$12:$Y$13))),AA18) -> 0 | M18: =IF('Previous Management-Field Hist.'!B29="",$AA$13,IF(L18=$AA$12, $AA$12,IF(L18<1, $Z$12, $Z$13))) -> No plot ID
A19: ='Previous Management-Field Hist.'!A30 -> 0 | B19: ='Previous Management-Field Hist.'!B30 -> 0 | C19: ='Previous Management-Field Hist.'!D30 -> 0 | D19: ='Previous Management-Field Hist.'!C30 -> 0 | E19: ='Previous Management-Field Hist.'!G30 -> 0 | F19: ='Previous Management-Field Hist.'!L30 -> 0 | G19: ='Previous Management-Field Hist.'!Q30 -> 0 | L19: =IF((COUNTA(H19:K19))=4,AVERAGE((_xlfn.XLOOKUP(H19,$R$12:$R$13,$S$12:$S$13)),(_xlfn.XLOOKUP(I19,$T$12:$T$14,$U$12:$U$14)),(_xlfn.XLOOKUP(J19,$V$12:$V$15,$W$12:$W$15)),(_xlfn.XLOOKUP(K19,$X$12:$X$13,$Y$12:$Y$13))),AA19) -> 0 | M19: =IF('Previous Management-Field Hist.'!B30="",$AA$13,IF(L19=$AA$12, $AA$12,IF(L19<1, $Z$12, $Z$13))) -> No plot ID
A20: ='Previous Management-Field Hist.'!A31 -> 0 | B20: ='Previous Management-Field Hist.'!B31 -> 0 | C20: ='Previous Management-Field Hist.'!D31 -> 0 | D20: ='Previous Management-Field Hist.'!C31 -> 0 | E20: ='Previous Management-Field Hist.'!G31 -> 0 | F20: ='Previous Management-Field Hist.'!L31 -> 0 | G20: ='Previous Management-Field Hist.'!Q31 -> 0 | L20: =IF((COUNTA(H20:K20))=4,AVERAGE((_xlfn.XLOOKUP(H20,$R$12:$R$13,$S$12:$S$13)),(_xlfn.XLOOKUP(I20,$T$12:$T$14,$U$12:$U$14)),(_xlfn.XLOOKUP(J20,$V$12:$V$15,$W$12:$W$15)),(_xlfn.XLOOKUP(K20,$X$12:$X$13,$Y$12:$Y$13))),AA20) -> 0 | M20: =IF('Previous Management-Field Hist.'!B31="",$AA$13,IF(L20=$AA$12, $AA$12,IF(L20<1, $Z$12, $Z$13))) -> No plot ID
A21: ='Previous Management-Field Hist.'!A32 -> 0 | B21: ='Previous Management-Field Hist.'!B32 -> 0 | C21: ='Previous Management-Field Hist.'!D32 -> 0 | D21: ='Previous Management-Field Hist.'!C32 -> 0 | E21: ='Previous Management-Field Hist.'!G32 -> 0 | F21: ='Previous Management-Field Hist.'!L32 -> 0 | G21: ='Previous Management-Field Hist.'!Q32 -> 0 | L21: =IF((COUNTA(H21:K21))=4,AVERAGE((_xlfn.XLOOKUP(H21,$R$12:$R$13,$S$12:$S$13)),(_xlfn.XLOOKUP(I21,$T$12:$T$14,$U$12:$U$14)),(_xlfn.XLOOKUP(J21,$V$12:$V$15,$W$12:$W$15)),(_xlfn.XLOOKUP(K21,$X$12:$X$13,$Y$12:$Y$13))),AA21) -> 0 | M21: =IF('Previous Management-Field Hist.'!B32="",$AA$13,IF(L21=$AA$12, $AA$12,IF(L21<1, $Z$12, $Z$13))) -> No plot ID
A22: ='Previous Management-Field Hist.'!A33 -> 0 | B22: ='Previous Management-Field Hist.'!B33 -> 0 | C22: ='Previous Management-Field Hist.'!D33 -> 0 | D22: ='Previous Management-Field Hist.'!C33 -> 0 | E22: ='Previous Management-Field Hist.'!G33 -> 0 | F22: ='Previous Management-Field Hist.'!L33 -> 0 | G22: ='Previous Management-Field Hist.'!Q33 -> 0 | L22: =IF((COUNTA(H22:K22))=4,AVERAGE((_xlfn.XLOOKUP(H22,$R$12:$R$13,$S$12:$S$13)),(_xlfn.XLOOKUP(I22,$T$12:$T$14,$U$12:$U$14)),(_xlfn.XLOOKUP(J22,$V$12:$V$15,$W$12:$W$15)),(_xlfn.XLOOKUP(K22,$X$12:$X$13,$Y$12:$Y$13))),AA22) -> 0 | M22: =IF('Previous Management-Field Hist.'!B33="",$AA$13,IF(L22=$AA$12, $AA$12,IF(L22<1, $Z$12, $Z$13))) -> No plot ID
A23: ='Previous Management-Field Hist.'!A34 -> 0 | B23: ='Previous Management-Field Hist.'!B34 -> 0 | C23: ='Previous Management-Field Hist.'!D34 -> 0 | D23: ='Previous Management-Field Hist.'!C34 -> 0 | E23: ='Previous Management-Field Hist.'!G34 -> 0 | F23: ='Previous Management-Field Hist.'!L34 -> 0 | G23: ='Previous Management-Field Hist.'!Q34 -> 0 | L23: =IF((COUNTA(H23:K23))=4,AVERAGE((_xlfn.XLOOKUP(H23,$R$12:$R$13,$S$12:$S$13)),(_xlfn.XLOOKUP(I23,$T$12:$T$14,$U$12:$U$14)),(_xlfn.XLOOKUP(J23,$V$12:$V$15,$W$12:$W$15)),(_xlfn.XLOOKUP(K23,$X$12:$X$13,$Y$12:$Y$13))),AA23) -> 0 | M23: =IF('Previous Management-Field Hist.'!B34="",$AA$13,IF(L23=$AA$12, $AA$12,IF(L23<1, $Z$12, $Z$13))) -> No plot ID
A24: ='Previous Management-Field Hist.'!A35 -> 0 | B24: ='Previous Management-Field Hist.'!B35 -> 0 | C24: ='Previous Management-Field Hist.'!D35 -> 0 | D24: ='Previous Management-Field Hist.'!C35 -> 0 | E24: ='Previous Management-Field Hist.'!G35 -> 0 | F24: ='Previous Management-Field Hist.'!L35 -> 0 | G24: ='Previous Management-Field Hist.'!Q35 -> 0 | L24: =IF((COUNTA(H24:K24))=4,AVERAGE((_xlfn.XLOOKUP(H24,$R$12:$R$13,$S$12:$S$13)),(_xlfn.XLOOKUP(I24,$T$12:$T$14,$U$12:$U$14)),(_xlfn.XLOOKUP(J24,$V$12:$V$15,$W$12:$W$15)),(_xlfn.XLOOKUP(K24,$X$12:$X$13,$Y$12:$Y$13))),AA24) -> 0 | M24: =IF('Previous Management-Field Hist.'!B35="",$AA$13,IF(L24=$AA$12, $AA$12,IF(L24<1, $Z$12, $Z$13))) -> No plot ID
A25: ='Previous Management-Field Hist.'!A36 -> 0 | B25: ='Previous Management-Field Hist.'!B36 -> 0 | C25: ='Previous Management-Field Hist.'!D36 -> 0 | D25: ='Previous Management-Field Hist.'!C36 -> 0 | E25: ='Previous Management-Field Hist.'!G36 -> 0 | F25: ='Previous Management-Field Hist.'!L36 -> 0 | G25: ='Previous Management-Field Hist.'!Q36 -> 0 | L25: =IF((COUNTA(H25:K25))=4,AVERAGE((_xlfn.XLOOKUP(H25,$R$12:$R$13,$S$12:$S$13)),(_xlfn.XLOOKUP(I25,$T$12:$T$14,$U$12:$U$14)),(_xlfn.XLOOKUP(J25,$V$12:$V$15,$W$12:$W$15)),(_xlfn.XLOOKUP(K25,$X$12:$X$13,$Y$12:$Y$13))),AA25) -> 0 | M25: =IF('Previous Management-Field Hist.'!B36="",$AA$13,IF(L25=$AA$12, $AA$12,IF(L25<1, $Z$12, $Z$13))) -> No plot ID
A26: ='Previous Management-Field Hist.'!A37 -> 0 | B26: ='Previous Management-Field Hist.'!B37 -> 0 | C26: ='Previous Management-Field Hist.'!D37 -> 0 | D26: ='Previous Management-Field Hist.'!C37 -> 0 | E26: ='Previous Management-Field Hist.'!G37 -> 0 | F26: ='Previous Management-Field Hist.'!L37 -> 0 | G26: ='Previous Management-Field Hist.'!Q37 -> 0 | L26: =IF((COUNTA(H26:K26))=4,AVERAGE((_xlfn.XLOOKUP(H26,$R$12:$R$13,$S$12:$S$13)),(_xlfn.XLOOKUP(I26,$T$12:$T$14,$U$12:$U$14)),(_xlfn.XLOOKUP(J26,$V$12:$V$15,$W$12:$W$15)),(_xlfn.XLOOKUP(K26,$X$12:$X$13,$Y$12:$Y$13))),AA26) -> 0 | M26: =IF('Previous Management-Field Hist.'!B37="",$AA$13,IF(L26=$AA$12, $AA$12,IF(L26<1, $Z$12, $Z$13))) -> No plot ID
A27: ='Previous Management-Field Hist.'!A38 -> 0 | B27: ='Previous Management-Field Hist.'!B38 -> 0 | C27: ='Previous Management-Field Hist.'!D38 -> 0 | D27: ='Previous Management-Field Hist.'!C38 -> 0 | E27: ='Previous Management-Field Hist.'!G38 -> 0 | F27: ='Previous Management-Field Hist.'!L38 -> 0 | G27: ='Previous Management-Field Hist.'!Q38 -> 0 | L27: =IF((COUNTA(H27:K27))=4,AVERAGE((_xlfn.XLOOKUP(H27,$R$12:$R$13,$S$12:$S$13)),(_xlfn.XLOOKUP(I27,$T$12:$T$14,$U$12:$U$14)),(_xlfn.XLOOKUP(J27,$V$12:$V$15,$W$12:$W$15)),(_xlfn.XLOOKUP(K27,$X$12:$X$13,$Y$12:$Y$13))),AA27) -> 0 | M27: =IF('Previous Management-Field Hist.'!B38="",$AA$13,IF(L27=$AA$12, $AA$12,IF(L27<1, $Z$12, $Z$13))) -> No plot ID
... A30: ='Previous Management-Field Hist.'!A41 -> 0 | B30: ='Previous Management-Field Hist.'!B41 -> 0 | C30: ='Previous Management-Field Hist.'!D41 -> 0 | D30: ='Previous Management-Field Hist.'!C41 -> 0 | E30: ='Previous Management-Field Hist.'!G41 -> 0 | F30: ='Previous Management-Field Hist.'!L41 -> 0 | G30: ='Previous Management-Field Hist.'!Q41 -> 0 | L30: =IF((COUNTA(H30:K30))=4,AVERAGE((_xlfn.XLOOKUP(H30,$R$12:$R$13,$S$12:$S$13)),(_xlfn.XLOOKUP(I30,$T$12:$T$14,$U$12:$U$14)),(_xlfn.XLOOKUP(J30,$V$12:$V$15,$W$12:$W$15)),(_xlfn.XLOOKUP(K30,$X$12:$X$13,$Y$12:$Y$13))),AA30) -> 0 | M30: =IF('Previous Management-Field Hist.'!B41="",$AA$13,IF(L30=$AA$12, $AA$12,IF(L30<1, $Z$12, $Z$13))) -> No plot ID
A31: ='Previous Management-Field Hist.'!#REF! -> #REF! | B31: ='Previous Management-Field Hist.'!#REF! -> #REF! | C31: ='Previous Management-Field Hist.'!#REF! -> #REF! | D31: ='Previous Management-Field Hist.'!#REF! -> #REF! | E31: ='Previous Management-Field Hist.'!#REF! -> #REF! | F31: ='Previous Management-Field Hist.'!#REF! -> #REF! | G31: ='Previous Management-Field Hist.'!#REF! -> #REF! | L31: =IF((COUNTA(H31:K31))=4,AVERAGE((_xlfn.XLOOKUP(H31,$R$12:$R$13,$S$12:$S$13)),(_xlfn.XLOOKUP(I31,$T$12:$T$14,$U$12:$U$14)),(_xlfn.XLOOKUP(J31,$V$12:$V$15,$W$12:$W$15)),(_xlfn.XLOOKUP(K31,$X$12:$X$13,$Y$12:$Y$13))),AA31) -> 0 | M31: =IF('Previous Management-Field Hist.'!#REF!="",$AA$13,IF(L31=$AA$12, $AA$12,IF(L31<1, $Z$12, $Z$13))) -> #REF!
A32: ='Previous Management-Field Hist.'!#REF! -> #REF! | B32: ='Previous Management-Field Hist.'!#REF! -> #REF! | C32: ='Previous Management-Field Hist.'!#REF! -> #REF! | D32: ='Previous Management-Field Hist.'!#REF! -> #REF! | E32: ='Previous Management-Field Hist.'!#REF! -> #REF! | F32: ='Previous Management-Field Hist.'!#REF! -> #REF! | G32: ='Previous Management-Field Hist.'!#REF! -> #REF! | L32: =IF((COUNTA(H32:K32))=4,AVERAGE((_xlfn.XLOOKUP(H32,$R$12:$R$13,$S$12:$S$13)),(_xlfn.XLOOKUP(I32,$T$12:$T$14,$U$12:$U$14)),(_xlfn.XLOOKUP(J32,$V$12:$V$15,$W$12:$W$15)),(_xlfn.XLOOKUP(K32,$X$12:$X$13,$Y$12:$Y$13))),AA32) -> 0 | M32: =IF('Previous Management-Field Hist.'!#REF!="",$AA$13,IF(L32=$AA$12, $AA$12,IF(L32<1, $Z$12, $Z$13))) -> #REF!
